BEGIN:VCALENDAR
VERSION:2.0
PRODID:-//Przedsiębiorstwo Robót Drogowych S.A. - ECPv6.15.15//NONSGML v1.0//EN
CALSCALE:GREGORIAN
METHOD:PUBLISH
X-WR-CALNAME:Przedsiębiorstwo Robót Drogowych S.A.
X-ORIGINAL-URL:https://prdpoddebice.pl
X-WR-CALDESC:Wydarzenia dla Przedsiębiorstwo Robót Drogowych S.A.
REFRESH-INTERVAL;VALUE=DURATION:PT1H
X-Robots-Tag:noindex
X-PUBLISHED-TTL:PT1H
BEGIN:VTIMEZONE
TZID:UTC
BEGIN:STANDARD
TZOFFSETFROM:+0000
TZOFFSETTO:+0000
TZNAME:UTC
DTSTART:20190101T000000
END:STANDARD
END:VTIMEZONE
BEGIN:VEVENT
DTSTART;TZID=UTC:20201218T160000
DTEND;TZID=UTC:20201218T180000
DTSTAMP:20260424T152842
CREATED:20201204T184134Z
LAST-MODIFIED:20201204T184137Z
UID:520-1608307200-1608314400@prdpoddebice.pl
SUMMARY:Nadzwyczajne Walne Zgromadzenie Akcjonariuszy
DESCRIPTION:Poddębice\, 04.12.2020 r. \n\n\n\nSzanowna Pani/Szanowny Pan/Firma Akcjonariusza \n\n\n\nZarząd Przedsiębiorstwa Robót Drogowych Spółka Akcyjna z siedzibą w Poddębicach\, wpisanego do rejestru przedsiębiorstw prowadzonego przez Sąd Rejonowy dla Łodzi – Śródmieścia w Łodzi  XX Wydział Gospodarczy Krajowego  Rejestru Sądowego KRS nr 0000058127\, NIP 8281255114\, REGON 730936009\, informuje\, że zwołuje Nadzwyczajne Walne Zgromadzenie Akcjonariuszy na dzień 18.12.2020 roku na godzinę 16.00 w siedzibie Spółki w Poddębicach przy ul. Łódzkiej 108. \n\n\n\nPorządek obrad : \n\n\n\nOtwarcie Walnego Zgromadzenia Akcjonariuszy \, wybór Przewodniczącego i Sekretarza.Wybór Komisji Skrutacyjnej.Stwierdzenie zdolności Walnego Zgromadzenia Akcjonariuszy do  podejmowania uchwał.Przyjęcie porządku obrad.Podjęcie uchwały w zakresie zatwierdzenia przez Walne Zgromadzenie Akcjonariuszy wszystkich zawartych przez Zarząd Spółki w 2020 r. umów pomocowych uzyskanych przez Spółkę w ramach ustawy o szczególnych rozwiązaniach związanych z zapobieganiem\, przeciwdziałaniem i zwalczaniem COVID-19\, innych chorób zakaźnych oraz wywołanych nimi sytuacji kryzysowych\,Zamknięcie obrad.\n\n\n\nJan Zawadzki  Prezes Zarządu
URL:https://prdpoddebice.pl/wydarzenie/nadzwyczajne-walne-zgromadzenie-akcjonariuszy/
END:VEVENT
BEGIN:VEVENT
DTSTART;TZID=UTC:20200930T170000
DTEND;TZID=UTC:20200930T170000
DTSTAMP:20260424T152842
CREATED:20200916T070444Z
LAST-MODIFIED:20200922T093610Z
UID:453-1601485200-1601485200@prdpoddebice.pl
SUMMARY:Zwyczajne Walne Zgromadzenie Akcjonariuszy
DESCRIPTION:Poddębice\, 15.09.2020 r. \n\n\n\nSzanowna Pani/Szanowny Pan/Firma Akcjonariusza \n\n\n\nZarząd Przedsiębiorstwa Robót Drogowych Spółka Akcyjna z siedzibą w Poddębicach\, wpisanego do rejestru przedsiębiorstw prowadzonego przez Sąd Rejonowy dla Łodzi – Śródmieścia w Łodzi  XX Wydział Gospodarczy Krajowego  Rejestru Sądowego KRS nr 0000058127\, NIP 8281255114\, REGON 730936009\, informuje\, że zwołuje Zwyczajne Walne Zgromadzenie Akcjonariuszy na dzień 30.09.2020 roku na godzinę 17.00 w siedzibie Spółki w Poddębicach przy ul. Łódzkiej 108. \n\n\n\nPorządek obrad : \n\n\n\nOtwarcie Walnego Zgromadzenia Akcjonariuszy \, wybór Przewodniczącego i Sekretarza.Wybór Komisji Skrutacyjnej.Stwierdzenie zdolności Walnego Zgromadzenia Akcjonariuszy do  podejmowania uchwał.Przyjęcie porządku obrad.Sprawozdanie Zarządu Spółki z działalności za 2019 rok.Sprawozdanie Rady Nadzorczej z działalności za 2019 rok.Zatwierdzenie sprawozdania Zarządu za 2019 rok.Zatwierdzenie sprawozdania Rady Nadzorczej za 2019 rok.Zatwierdzenie sprawozdania finansowego Spółki za rok obrotowy 2019.Podjęcie uchwały w przedmiocie podziału zysku za 2019 rok.Udzielenie pokwitowania Zarządowi Spółki z obowiązków wykonanych za 2019 rok.Udzielenie pokwitowania Radzie Nadzorczej z obowiązków wykonanych za 2019 rok.Weryfikacja składu Rady Nadzorczej i wybór/potwierdzenie poszczególnych członków Rady Nadzorczej Spółki.Wybór podmiotu prowadzącego rejestr akcjonariuszy posiadającego uprawnienia do prowadzenia rachunków papierów wartościowych.Zamknięcie obrad.\n\n\n\n                                                            KOMUNIKAT \n\n\n\nZ uwagi na obowiązujące obostrzenia dotyczące zgromadzeń i zaleceń GIS związanych z ogłoszonym stanem epidemii koronawirusa COVID – 19 dla celów organizacyjnych oraz zapewnienia bezpieczeństwa uczestników prosimy o przestrzeganie zaleceń takich jak: \n\n\n\n– zachowanie minimum 1\,5 m dystansu \n\n\n\n– zakrywanie ust i nosa.                                                                                    \n\n\n\n                                                            DZIĘKUJEMY
URL:https://prdpoddebice.pl/wydarzenie/zwyczajne-walne-zgromadzenie-akcjonariuszy/
END:VEVENT
END:VCALENDAR